BEGIN:VCALENDAR
VERSION:2.0
PRODID:-//Rauman Työväen Veneilijät - ECPv5.1.0//NONSGML v1.0//EN
CALSCALE:GREGORIAN
METHOD:PUBLISH
X-WR-CALNAME:Rauman Työväen Veneilijät
X-ORIGINAL-URL:https://www.rtvry.fi
X-WR-CALDESC:Tapahtumat Rauman Työväen Veneilijät
BEGIN:VTIMEZONE
TZID:Europe/Helsinki
BEGIN:DAYLIGHT
TZOFFSETFROM:+0200
TZOFFSETTO:+0300
TZNAME:EEST
DTSTART:20150329T010000
END:DAYLIGHT
BEGIN:STANDARD
TZOFFSETFROM:+0300
TZOFFSETTO:+0200
TZNAME:EET
DTSTART:20151025T010000
END:STANDARD
END:VTIMEZONE
BEGIN:VEVENT
DTSTART;TZID=Europe/Helsinki:20150603T180000
DTEND;TZID=Europe/Helsinki:20150603T200000
DTSTAMP:20260420T075233
CREATED:20150423T042533Z
LAST-MODIFIED:20150423T042533Z
UID:489-1433354400-1433361600@www.rtvry.fi
SUMMARY:Venekatsastus 4/6
DESCRIPTION:Syvärauma / Kouluranta klo 18.00- \n\n\n\n\n\n\n
URL:https://www.rtvry.fi/?tribe_events=venekatsastus-46
LOCATION:Syvärauma / Kouluranta\, Purjehtijankatu 10\, Rauma\, Suomi
CATEGORIES:Katsastus
END:VEVENT
END:VCALENDAR