BEGIN:VCALENDAR
VERSION:2.0
PRODID:-//Rauman Työväen Veneilijät - ECPv5.1.0//NONSGML v1.0//EN
CALSCALE:GREGORIAN
METHOD:PUBLISH
X-WR-CALNAME:Rauman Työväen Veneilijät
X-ORIGINAL-URL:https://www.rtvry.fi
X-WR-CALDESC:Tapahtumat Rauman Työväen Veneilijät
BEGIN:VTIMEZONE
TZID:Europe/Helsinki
BEGIN:DAYLIGHT
TZOFFSETFROM:+0200
TZOFFSETTO:+0300
TZNAME:EEST
DTSTART:20150329T010000
END:DAYLIGHT
BEGIN:STANDARD
TZOFFSETFROM:+0300
TZOFFSETTO:+0200
TZNAME:EET
DTSTART:20151025T010000
END:STANDARD
END:VTIMEZONE
BEGIN:VEVENT
DTSTART;VALUE=DATE:20150704
DTEND;VALUE=DATE:20150706
DTSTAMP:20260419T210246
CREATED:20150411T091052Z
LAST-MODIFIED:20150713T070244Z
UID:478-1435968000-1436140799@www.rtvry.fi
SUMMARY:TUL:n veneilypäivät Huhtakarissa\, Pori
DESCRIPTION:VENEILYPÄIVILLÄ PORISSA 4-5.7 2015 \nSeurastamme oli 7 venekuntaa paikalla. \nJoukkuekilpailussa olimme voittajia\, joukkueessa olivat \nMaire Ranta\, Hannele Männistö\, Eija Lehtinen\, Juhani Väli-Mattila\, \nJuha Metsätähti ja Kari Lehtinen. \nLentopallossa olimme kakkossijalla\, joukkueessa pelasivat \nMaire Ranta\, Markku Ranta\, Juhani Väli-Mattila\, Juha Metsätähti\,  \nAri Nieminen\, Kari Lehtinen ja UTVMS:sta lainassa Pekka Leino. \nSeurojen logokilpailussa tuli tasatulos\, meni arvontaan ja arpa suosi \njoukkuetta Linda/ Eija ja Kari Lehtinen. \nVuoden veneilijäksi valittiin Keijo Suominen Justiinan kippari Porin Veneilijöistä \nViikonloppu meni mukavasti yhdessäoloa muiden veneseurojen edustajien kanssa\, kisaillen\, saunoen ja iltaisin tanssien ja karaokea laulaen. Matkakelit oli mennessä ja tullessa hyviä\, perjantaina oli pieni pätkä kovempaa kyytiä\, onneksi selvittiin vain aineellisilla vahingoilla\, ja saatiin puheenaihetta viikonlopuksi. \nKari Lehtinen \n\n\n\n\n\n\n
URL:https://www.rtvry.fi/?tribe_events=tuln-veneilypaivat-huhtakarissa-pori
LOCATION:Huhtakari\, Huhtakari\, Pori\, Pori\, Suomi
CATEGORIES:Retket
END:VEVENT
END:VCALENDAR