BEGIN:VCALENDAR
VERSION:2.0
PRODID:-//Rauman Työväen Veneilijät - ECPv5.1.0//NONSGML v1.0//EN
CALSCALE:GREGORIAN
METHOD:PUBLISH
X-WR-CALNAME:Rauman Työväen Veneilijät
X-ORIGINAL-URL:https://www.rtvry.fi
X-WR-CALDESC:Tapahtumat Rauman Työväen Veneilijät
BEGIN:VTIMEZONE
TZID:Europe/Helsinki
BEGIN:DAYLIGHT
TZOFFSETFROM:+0200
TZOFFSETTO:+0300
TZNAME:EEST
DTSTART:20150329T010000
END:DAYLIGHT
BEGIN:STANDARD
TZOFFSETFROM:+0300
TZOFFSETTO:+0200
TZNAME:EET
DTSTART:20151025T010000
END:STANDARD
END:VTIMEZONE
BEGIN:VEVENT
DTSTART;VALUE=DATE:20150613
DTEND;VALUE=DATE:20150615
DTSTAMP:20260420T024038
CREATED:20150411T085722Z
LAST-MODIFIED:20150411T090252Z
UID:474-1434153600-1434326399@www.rtvry.fi
SUMMARY:Nuorisoleiri
DESCRIPTION:\n\n\n\n\n\n
URL:https://www.rtvry.fi/?tribe_events=nuorisoleiri-2
LOCATION:Levätys\, Levätys\, Rauma\, Suomi
CATEGORIES:Koulutus
END:VEVENT
END:VCALENDAR