BEGIN:VCALENDAR
VERSION:2.0
PRODID:-//Rauman Työväen Veneilijät - ECPv5.1.0//NONSGML v1.0//EN
CALSCALE:GREGORIAN
METHOD:PUBLISH
X-WR-CALNAME:Rauman Työväen Veneilijät
X-ORIGINAL-URL:https://www.rtvry.fi
X-WR-CALDESC:Tapahtumat Rauman Työväen Veneilijät
BEGIN:VTIMEZONE
TZID:Europe/Helsinki
BEGIN:DAYLIGHT
TZOFFSETFROM:+0200
TZOFFSETTO:+0300
TZNAME:EEST
DTSTART:20150329T010000
END:DAYLIGHT
BEGIN:STANDARD
TZOFFSETFROM:+0300
TZOFFSETTO:+0200
TZNAME:EET
DTSTART:20151025T010000
END:STANDARD
END:VTIMEZONE
BEGIN:VEVENT
DTSTART;TZID=Europe/Helsinki:20150808T120000
DTEND;TZID=Europe/Helsinki:20150808T230000
DTSTAMP:20260420T003128
CREATED:20150411T091448Z
LAST-MODIFIED:20150712T125041Z
UID:482-1439035200-1439074800@www.rtvry.fi
SUMMARY:Navigoinnin Rauman sekä Seuran mestaruuskilpailut (Köydet irti) ja vierailu Laakoon
DESCRIPTION:\n\n\n\n\n\n
URL:https://www.rtvry.fi/?tribe_events=navigoinnin-rauman-seka-seuran-mestaruuskilpailut-koydet-irti-2
LOCATION:Laako\, Laako\, Rauma\, Rauma\, Suomi
CATEGORIES:Kilpailut
END:VEVENT
END:VCALENDAR