BEGIN:VCALENDAR
VERSION:2.0
PRODID:-//Rauman Työväen Veneilijät - ECPv5.1.0//NONSGML v1.0//EN
CALSCALE:GREGORIAN
METHOD:PUBLISH
X-WR-CALNAME:Rauman Työväen Veneilijät
X-ORIGINAL-URL:https://www.rtvry.fi
X-WR-CALDESC:Tapahtumat Rauman Työväen Veneilijät
BEGIN:VTIMEZONE
TZID:Europe/Helsinki
BEGIN:DAYLIGHT
TZOFFSETFROM:+0200
TZOFFSETTO:+0300
TZNAME:EEST
DTSTART:20250330T010000
END:DAYLIGHT
BEGIN:STANDARD
TZOFFSETFROM:+0300
TZOFFSETTO:+0200
TZNAME:EET
DTSTART:20251026T010000
END:STANDARD
END:VTIMEZONE
BEGIN:VEVENT
DTSTART;TZID=Europe/Helsinki:20250906T190000
DTEND;TZID=Europe/Helsinki:20250906T220000
DTSTAMP:20260419T175311
CREATED:20250216T110103Z
LAST-MODIFIED:20250216T110103Z
UID:1449-1757185200-1757196000@www.rtvry.fi
SUMMARY:Lauluilta grillikatoksella
DESCRIPTION:\n\n\n\n\n\n
URL:https://www.rtvry.fi/?tribe_events=lauluilta-grillikatoksella-8
LOCATION:Levätys\, Levätys\, Rauma\, Suomi
CATEGORIES:Musiikkitapahtumat
END:VEVENT
END:VCALENDAR