BEGIN:VCALENDAR
VERSION:2.0
PRODID:-//Rauman Työväen Veneilijät - ECPv5.1.0//NONSGML v1.0//EN
CALSCALE:GREGORIAN
METHOD:PUBLISH
X-WR-CALNAME:Rauman Työväen Veneilijät
X-ORIGINAL-URL:https://www.rtvry.fi
X-WR-CALDESC:Tapahtumat Rauman Työväen Veneilijät
BEGIN:VTIMEZONE
TZID:Europe/Helsinki
BEGIN:DAYLIGHT
TZOFFSETFROM:+0200
TZOFFSETTO:+0300
TZNAME:EEST
DTSTART:20150329T010000
END:DAYLIGHT
BEGIN:STANDARD
TZOFFSETFROM:+0300
TZOFFSETTO:+0200
TZNAME:EET
DTSTART:20151025T010000
END:STANDARD
END:VTIMEZONE
BEGIN:VEVENT
DTSTART;TZID=Europe/Helsinki:20150620T143000
DTEND;TZID=Europe/Helsinki:20150620T180000
DTSTAMP:20260419T224706
CREATED:20150411T085941Z
LAST-MODIFIED:20150411T090627Z
UID:476-1434810600-1434823200@www.rtvry.fi
SUMMARY:Juhannusajo saaristossa
DESCRIPTION:\n\n\n\n\n\n
URL:https://www.rtvry.fi/?tribe_events=juhannusajo-saaristossa-2
LOCATION:Levätys\, Levätys\, Rauma\, Suomi
CATEGORIES:Retket
END:VEVENT
END:VCALENDAR